BEGIN:VCALENDAR
VERSION:2.0
PRODID:-//La Boulangerie du Prado - ECPv6.15.20//NONSGML v1.0//EN
CALSCALE:GREGORIAN
METHOD:PUBLISH
X-ORIGINAL-URL:https://boulangerieduprado.com
X-WR-CALDESC:Évènements pour La Boulangerie du Prado
REFRESH-INTERVAL;VALUE=DURATION:PT1H
X-Robots-Tag:noindex
X-PUBLISHED-TTL:PT1H
BEGIN:VTIMEZONE
TZID:UTC
BEGIN:STANDARD
TZOFFSETFROM:+0000
TZOFFSETTO:+0000
TZNAME:UTC
DTSTART:20240101T000000
END:STANDARD
END:VTIMEZONE
BEGIN:VEVENT
DTSTART;TZID=UTC:20251009T190000
DTEND;TZID=UTC:20251009T223000
DTSTAMP:20260422T141015
CREATED:20250920T105426Z
LAST-MODIFIED:20250926T214615Z
UID:2189-1760036400-1760049000@boulangerieduprado.com
SUMMARY:Vernissage et stand up
DESCRIPTION:Vernissage (Alexandre Soulard)\n\n\n\n\n\n\n\n\n\n\n\n\n\nUne réalité… parmi tant d’autres\n\n\n\nQue ce soit un rayon de lumière sur le sol\, un bâtiment sous un angle de vue insolite\, un détail du quotidien ou un passant à un coin de rue\, chacun perçoit et interprète le monde à sa manière\, en fonction de son expérience\, de ses préjugés et de ses émotions. Depuis une quinzaine d’années\, je photographie ce monde qui nous entoure\, essayant d’apprivoiser une réalité subjective qui se dérobe souvent rapidement sous nos yeux. En prenant le temps d’observer\, je tente de capturer la fantaisie dans l’ordinaire\, la poésie dans le banal. A chacune de mes images\, je donne alors un titre\, souvent en détournant les mots\, qui évoque et renforce la fantaisie ou la poésie que j’ai pu ressentir. Ainsi\, à travers une sélection de vingt de mes photographies\, je souhaite montrer ma réalité ; une réalité parmi tant d’autres. \n\n\n\n\nInstagram\n\n\n\n\n\n\nStand up (LES METASTARS ET CELLULES COMIQUES)\n\n\n\n\n\n\n\n\n\n\n\nLes Métastars et Cellules comiques… une équipe de stand-upeuses née du projet « On’Comédy Club » initié et porté par les HCL de Lyon et le Théâtre de la Croix-Rousse \n\n\n\nElles sont 5 (ou plus). Face au cancer\, elles ont pris le micro pour nous partager leurs moments. Chacune est une guerrière du crabe\, avec humour et douceur\, elles se livrent. Un moment fort en émotion\, comme on aime. \n\n\n\n \n\n\n\n\n\n\n\n\n\nInfos pratiquesL’adhésion à l’association est obligatoire pour participer (valable pour la saison de septembre à juillet\, à prix libre dès 3€).Attention : la Boulangerie du Prado n’accepte que les espèces.
URL:https://boulangerieduprado.com/evenement/vernissage-et-scene-ouverte-2/
CATEGORIES:Expositions,Vernissage
ATTACH;FMTTYPE=image/jpeg:https://boulangerieduprado.com/wp-content/uploads/2025/09/WhatsApp-Image-2025-09-21-at-22.30.521.jpeg
END:VEVENT
END:VCALENDAR