BEGIN:VCALENDAR
VERSION:2.0
PRODID:-//La Boulangerie du Prado - ECPv6.15.20//NONSGML v1.0//EN
CALSCALE:GREGORIAN
METHOD:PUBLISH
X-WR-CALNAME:La Boulangerie du Prado
X-ORIGINAL-URL:https://boulangerieduprado.com
X-WR-CALDESC:Évènements pour La Boulangerie du Prado
REFRESH-INTERVAL;VALUE=DURATION:PT1H
X-Robots-Tag:noindex
X-PUBLISHED-TTL:PT1H
BEGIN:VTIMEZONE
TZID:UTC
BEGIN:STANDARD
TZOFFSETFROM:+0000
TZOFFSETTO:+0000
TZNAME:UTC
DTSTART:20240101T000000
END:STANDARD
END:VTIMEZONE
BEGIN:VEVENT
DTSTART;TZID=UTC:20251025T200000
DTEND;TZID=UTC:20251025T223000
DTSTAMP:20260422T134636
CREATED:20251014T192433Z
LAST-MODIFIED:20251014T192435Z
UID:2257-1761422400-1761431400@boulangerieduprado.com
SUMMARY:Mifig et invité.e.s surprises
DESCRIPTION:Musiques à danser\, bal de sortie de résidence\n\n\n\n\n\n\n\n\n\n\n\n\n\n\n\n\n\nMifig c’est une construction hybride de musiques à danser. En 2025\, les 4 musiciennes\, qui tracent leurs routes dans des univers variés (musiques des Balkans\, traditionnelles françaises\, chanson\, jazz\, funk)\, se rejoignent avec une envie commune : inventer un folklore qui fera danser. Fortes de leur parcours\, de stages\, de voyages\, de soirées et de boeufs\, les musiciennes croisent leurs pratiques musicales et composent le répertoire du groupe\, adapté au bal et au concert. L’univers du quartet se construit sur des mélodies et des cadences dansantes\, encouragées et stimulées par des influences groove et jazz. Des compositions qui rassemblent mélodies\, riffs\, improvisations et moments de transe. \n\n\n\n\nEvènement Facebook\n\n\n\n\n\n\n\n\n\n\n\n\n\n\n\n\n\n\n\n\n\n\nInfos pratiquesOuverture des portes à 20h\, spectacle à 20h30.L’adhésion à l’association est obligatoire pour assister au spectacle (valable pour la saison de septembre à juillet\, à prix libre dès 3€).L’entrée est à prix libre au chapeau pour les artistes !Attention : la Boulangerie du Prado n’accepte que les espèces.
URL:https://boulangerieduprado.com/evenement/mifig-et-invite-e-s-surprises/
CATEGORIES:Autre
ATTACH;FMTTYPE=image/png:https://boulangerieduprado.com/wp-content/uploads/2025/10/Mifig-Boulange-.png
END:VEVENT
END:VCALENDAR