BEGIN:VCALENDAR
VERSION:2.0
PRODID:-//La Boulangerie du Prado - ECPv6.15.20//NONSGML v1.0//EN
CALSCALE:GREGORIAN
METHOD:PUBLISH
X-WR-CALNAME:La Boulangerie du Prado
X-ORIGINAL-URL:https://boulangerieduprado.com
X-WR-CALDESC:Évènements pour La Boulangerie du Prado
REFRESH-INTERVAL;VALUE=DURATION:PT1H
X-Robots-Tag:noindex
X-PUBLISHED-TTL:PT1H
BEGIN:VTIMEZONE
TZID:UTC
BEGIN:STANDARD
TZOFFSETFROM:+0000
TZOFFSETTO:+0000
TZNAME:UTC
DTSTART:20240101T000000
END:STANDARD
END:VTIMEZONE
BEGIN:VEVENT
DTSTART;TZID=UTC:20251212T190000
DTEND;TZID=UTC:20251212T223000
DTSTAMP:20260422T103231
CREATED:20251116T224950Z
LAST-MODIFIED:20251116T224952Z
UID:2324-1765566000-1765578600@boulangerieduprado.com
SUMMARY:Elsa Forêt
DESCRIPTION:Pop folk\n\n\n\n\n\n\n\n\n\n\n\n\n\n\n\n\n\nElsa Forêt\, une véritable poète nomade qui chante le monde avec une sensibilité captivante. Son univers musical est une bulle de pop-folk chaleureuse\, portée par le doux son du ukulélé et les accords de la guitare. \n\n\n\nPréparez-vous à plonger dans un monde où les mots\, sensibles et engagés\, s’entremêlent en plusieurs langues. Elsa Forêt est une artiste éclectique qui laisse libre cours à son improvisation vocale\, tissant des liens uniques avec ses textes poétiques multilingues et des rythmiques aux accents reggae\, pop et folk. \n\n\n\nSur scène\, Elsa Forêt se révèle pleinement\, souvent accompagnée de quatre musicien.ne.s talentueux.ses qui enrichissent ses compositions de rythmes africains entraînants\, de touches ska festives et de solos jazz inspirés. Chaque concert est une promesse de refrains entêtants et d’un véritable baume au cœur. \n\n\n\nNe la manquez sous aucun prétexte ! Entre les pulsations reggae\, pop et folk\, Elsa Forêt crée avec son ukulélé et sa guitare\, mais n’hésite jamais à explorer des deuxièmes voix surprenantes et une improvisation vocale héritée de sa formation jazz. \n\n\n\n\nInstagram\n\n\n\nFacebook\n\n\n\nYoutube\n\n\n\nSite\n\n\n\n\n\n\n\n\n\n\n\n\n\n\n\n\n\n\n\n\n\n\nInfos pratiquesOuverture des portes à 20h\, spectacle à 20h30.L’adhésion à l’association est obligatoire pour assister au spectacle (valable pour la saison de septembre à juillet\, à prix libre dès 3€).L’entrée est à prix libre au chapeau pour les artistes !Attention : la Boulangerie du Prado n’accepte que les espèces.
URL:https://boulangerieduprado.com/evenement/elsa-foret/
CATEGORIES:Concert
ATTACH;FMTTYPE=image/jpeg:https://boulangerieduprado.com/wp-content/uploads/2025/11/ELSA-FORET-MOUSSE-7-©-Prune-Vellot-scaled.jpg
END:VEVENT
END:VCALENDAR