BEGIN:VCALENDAR
VERSION:2.0
PRODID:-//La Boulangerie du Prado - ECPv6.15.20//NONSGML v1.0//EN
CALSCALE:GREGORIAN
METHOD:PUBLISH
X-WR-CALNAME:La Boulangerie du Prado
X-ORIGINAL-URL:https://boulangerieduprado.com
X-WR-CALDESC:Évènements pour La Boulangerie du Prado
REFRESH-INTERVAL;VALUE=DURATION:PT1H
X-Robots-Tag:noindex
X-PUBLISHED-TTL:PT1H
BEGIN:VTIMEZONE
TZID:UTC
BEGIN:STANDARD
TZOFFSETFROM:+0000
TZOFFSETTO:+0000
TZNAME:UTC
DTSTART:20250101T000000
END:STANDARD
END:VTIMEZONE
BEGIN:VEVENT
DTSTART;TZID=UTC:20260117T200000
DTEND;TZID=UTC:20260117T223000
DTSTAMP:20260420T193120
CREATED:20251210T172131Z
LAST-MODIFIED:20251210T172133Z
UID:2394-1768680000-1768689000@boulangerieduprado.com
SUMMARY:Flaming Otters & Vain Glory
DESCRIPTION:Rock alternatif & Heavy Metal mélodique\n\n\n\n\n\n\n\n\n\n\n\n\n\n\n\n\n\n\n\n\n\n\n\n\n\nVAIN GLORY\n\n\n\nForgerons de riffs et porteurs d’hymnes\, VAIN GLORY célèbre la grandeur\, la puissance et la liberté. ✊Un heavy metal puissant\, sans compromis\, taillé pour vibrer\, rassembler et marquer les esprits. \n\n\n\n\nFacebook\n\n\n\nEvènement Facebook\n\n\n\n\n\n\n\n\nFLAMING OTTERS\n\n\n\nDepuis trois ans\, les Flaming Otters enflamment les scènes lyonnaises avec leur rock survitaminé. \n\n\n\nEn 2025\, ils ont désormais franchi une nouvelle étape : leurs propres compositions sur scène\, taillées pour faire bouger les foules et taper du pied. \n\n\n\nCinq musiciens – chanteur énergique\, batteur percutant\, deux guitaristes incisifs et un bassiste groovy – forment un cocktail explosif d’énergie\, de bonne humeur et de riffs imparables. \n\n\n\n\nFacebook\n\n\n\nInstagram\n\n\n\nYoutube\n\n\n\n\n\n\n\n\n\n\n\n\n\n\n\n\n\n\nInfos pratiquesOuverture des portes à 20h\, spectacle à 20h30.L’adhésion à l’association est obligatoire pour assister au spectacle (valable pour la saison de septembre à juillet\, à prix libre dès 3€).L’entrée est à prix libre au chapeau pour les artistes !Attention : la Boulangerie du Prado n’accepte que les espèces.
URL:https://boulangerieduprado.com/evenement/flaming-otters-vain-glory/
CATEGORIES:Concert,Programmation
ATTACH;FMTTYPE=image/jpeg:https://boulangerieduprado.com/wp-content/uploads/2025/12/587155842_122139883988935462_5907087271124685903_n.jpg
END:VEVENT
END:VCALENDAR