BEGIN:VCALENDAR
VERSION:2.0
PRODID:-//La Boulangerie du Prado - ECPv6.15.20//NONSGML v1.0//EN
CALSCALE:GREGORIAN
METHOD:PUBLISH
X-ORIGINAL-URL:https://boulangerieduprado.com
X-WR-CALDESC:Évènements pour La Boulangerie du Prado
REFRESH-INTERVAL;VALUE=DURATION:PT1H
X-Robots-Tag:noindex
X-PUBLISHED-TTL:PT1H
BEGIN:VTIMEZONE
TZID:UTC
BEGIN:STANDARD
TZOFFSETFROM:+0000
TZOFFSETTO:+0000
TZNAME:UTC
DTSTART:20250101T000000
END:STANDARD
END:VTIMEZONE
BEGIN:VEVENT
DTSTART;TZID=UTC:20260226T193000
DTEND;TZID=UTC:20260226T223000
DTSTAMP:20260420T163116
CREATED:20260119T223156Z
LAST-MODIFIED:20260125T222731Z
UID:2528-1772134200-1772145000@boulangerieduprado.com
SUMMARY:FFYG
DESCRIPTION:Festival Tournée Générale en partenariat avec le Périscope\n\n\n\n\n\n\n\n\n\n\n\n\n\n\n\n\n\nFFYG est un duo formé en janvier 2020 et composé de Yann Gourdon (vielle à roue) et Filipe Felizardo (guitare électrique) : Trás-os-Montes Records a permis aux deux musiciens de se rencontrer et de jouer presque sans interruption pendant trois jours\, se prouvant mutuellement que leurs intuitions et leurs passions étaient en harmonie et faisant converger la densité des timbres et des langages poétiques de leurs instruments à un point de tous les retours\, enrichi par l’observation de la géologie de Macedo de Cavaleiros et de Podence. De cette rencontre est né le LP La Langue de l’Ophiolite. \n\n\n\nDe là\, avec des drones résultant d’une étude de la durée\, de la thermodynamique harmonique et de délicieuses erreurs qui naissent de la répétition et d’une persistance inlassable\, ils proposent un geste immanent où l’on peut regarder et écouter comme si l’on devenait le sommet d’une montagne\, avec une vision et une ouïe à 360º – où les points aveugles de la perception sont le vecteur de la vérité extatique que les musiciens cherchent à établir avec qui écoute. \n\n\n\n \n\n\n\nAttention\, début du concert à 20h00 exceptionnellement. \n\n\n\n\nAlbum « La Langue de l’Ophiolite »\n\n\n\nAlbum « Cependant »\n\n\n\n\n\n\nInfos pratiquesL’adhésion à l’association est obligatoire pour participer (valable pour la saison de septembre à juillet\, à prix libre dès 3€).Attention : la Boulangerie du Prado n’accepte que les espèces.
URL:https://boulangerieduprado.com/evenement/scene-ouverte-et-bal-folk-10/
CATEGORIES:Autre,Concert,Programmation
ATTACH;FMTTYPE=image/jpeg:https://boulangerieduprado.com/wp-content/uploads/2026/01/ffyg.jpg
END:VEVENT
END:VCALENDAR