BEGIN:VCALENDAR
VERSION:2.0
PRODID:-//La Boulangerie du Prado - ECPv6.15.20//NONSGML v1.0//EN
CALSCALE:GREGORIAN
METHOD:PUBLISH
X-WR-CALNAME:La Boulangerie du Prado
X-ORIGINAL-URL:https://boulangerieduprado.com
X-WR-CALDESC:Évènements pour La Boulangerie du Prado
REFRESH-INTERVAL;VALUE=DURATION:PT1H
X-Robots-Tag:noindex
X-PUBLISHED-TTL:PT1H
BEGIN:VTIMEZONE
TZID:UTC
BEGIN:STANDARD
TZOFFSETFROM:+0000
TZOFFSETTO:+0000
TZNAME:UTC
DTSTART:20250101T000000
END:STANDARD
END:VTIMEZONE
BEGIN:VEVENT
DTSTART;TZID=UTC:20260314T200000
DTEND;TZID=UTC:20260314T223000
DTSTAMP:20260420T211647
CREATED:20260214T102458Z
LAST-MODIFIED:20260214T195624Z
UID:2577-1773518400-1773527400@boulangerieduprado.com
SUMMARY:SLAP + MATECE
DESCRIPTION:Funk + Pop soul folk\n\n\n\n\n\n\n\n\n\n\n\n\n\n\n\n\n\nSLAP\, c’est une histoire de groove\, de feeling et de partage.Des rythmes funk\, de la soul et de tout ce qui fait vibrer le corps et l’âme.Installez-vous\, laissez-vous porter… \n\n\n\nEn 1ère partie MATECE\, un duo qu’on adore !!!\, style acoustique Pop-soul & Folk Eclectique ! \n\n\n\nVenez nombreux\, ça va être la folie !!!  \n\n\n\n\nInstagram SLAP\n\n\n\nÉvénement Facebook\n\n\n\nFacebook SLAP\n\n\n\n\n\n\n\n\n\n\n\n\n\n\n\n\nInfos pratiquesOuverture des portes à 20h\, spectacle à 20h30.L’adhésion à l’association est obligatoire pour assister au spectacle (valable pour la saison de septembre à juillet\, à prix libre dès 3€).L’entrée est à prix libre au chapeau pour les artistes !Attention : la Boulangerie du Prado n’accepte que les espèces.
URL:https://boulangerieduprado.com/evenement/slap-matece/
CATEGORIES:Concert,Programmation
ATTACH;FMTTYPE=image/jpeg:https://boulangerieduprado.com/wp-content/uploads/2026/02/SLAP-MATECE-BOULANG.jpg
END:VEVENT
END:VCALENDAR