BEGIN:VCALENDAR
VERSION:2.0
PRODID:-//La Boulangerie du Prado - ECPv6.15.20//NONSGML v1.0//EN
CALSCALE:GREGORIAN
METHOD:PUBLISH
X-ORIGINAL-URL:https://boulangerieduprado.com
X-WR-CALDESC:Évènements pour La Boulangerie du Prado
REFRESH-INTERVAL;VALUE=DURATION:PT1H
X-Robots-Tag:noindex
X-PUBLISHED-TTL:PT1H
BEGIN:VTIMEZONE
TZID:UTC
BEGIN:STANDARD
TZOFFSETFROM:+0000
TZOFFSETTO:+0000
TZNAME:UTC
DTSTART:20250101T000000
END:STANDARD
END:VTIMEZONE
BEGIN:VEVENT
DTSTART;TZID=UTC:20260501T200000
DTEND;TZID=UTC:20260501T223000
DTSTAMP:20260420T145642
CREATED:20260415T213426Z
LAST-MODIFIED:20260415T223459Z
UID:2734-1777665600-1777674600@boulangerieduprado.com
SUMMARY:Antoine Gasse - La tête à l’envers
DESCRIPTION:Récital acoustique pour piano\, guitare et voix.\n\n\n\n\n\n\n\n\n\n\n\n\n\n\n\n\n\n\n\n\n\n\n\n\n\nChansons corrosives\, d’autres teintées d’humour\, parfois sombres\, parfois plus lumineuses. Un moment d’écoute intime et direct. \n\n\n\nAvec La tête à l’envers\, Antoine Gasse propose un récital piano/guitare/voix d’1h10\, guidé par une charte artistique simple : seul en scène\, créations originales\, sons acoustiques non modifiés\, une esthétique épurée (pas de décor\, tenue sobre).Un univers direct et sensible\, où se mêlent des chansons corrosives\, d’autres teintées d’humour\, parfois sombres\, parfois plus lumineuses.L’écriture comme un socle\, incarnée par une interprétation habitée.Des mots au plus près\, pour un moment d’écoute où la langue circule\, respire et se frotte à nos réalités.Juste ça : des cordes. Des cordes de guitare\, des cordes de piano\, des cordes vocales. \n\n\n\n \n\n\n\n\nÉvènement Facebook\n\n\n\nYoutube\n\n\n\n\n\n\n\n\n\n\n\n\n\n\n\n \n\n\n\n\n\n\n\n\n\n\n\n\nInfos pratiquesOuverture des portes à 20h\, spectacle à 20h30.L’adhésion à l’association est obligatoire pour assister au spectacle (valable pour la saison de septembre à juillet\, à prix libre dès 3€).L’entrée est à prix libre au chapeau pour les artistes !Attention : la Boulangerie du Prado n’accepte que les espèces.
URL:https://boulangerieduprado.com/evenement/antoine-gasse-la-tete-a-lenvers/
CATEGORIES:Concert,Programmation
ATTACH;FMTTYPE=image/jpeg:https://boulangerieduprado.com/wp-content/uploads/2026/04/AntoineGasse_PhotoHD-1.jpg
END:VEVENT
END:VCALENDAR