BEGIN:VCALENDAR
VERSION:2.0
PRODID:-//La Boulangerie du Prado - ECPv6.15.20//NONSGML v1.0//EN
CALSCALE:GREGORIAN
METHOD:PUBLISH
X-WR-CALNAME:La Boulangerie du Prado
X-ORIGINAL-URL:https://boulangerieduprado.com
X-WR-CALDESC:Évènements pour La Boulangerie du Prado
REFRESH-INTERVAL;VALUE=DURATION:PT1H
X-Robots-Tag:noindex
X-PUBLISHED-TTL:PT1H
BEGIN:VTIMEZONE
TZID:UTC
BEGIN:STANDARD
TZOFFSETFROM:+0000
TZOFFSETTO:+0000
TZNAME:UTC
DTSTART:20250101T000000
END:STANDARD
END:VTIMEZONE
BEGIN:VEVENT
DTSTART;TZID=UTC:20260509T200000
DTEND;TZID=UTC:20260509T223000
DTSTAMP:20260420T162729
CREATED:20260415T222916Z
LAST-MODIFIED:20260415T222918Z
UID:2751-1778356800-1778365800@boulangerieduprado.com
SUMMARY:ELEKTROPHIELD PROJEKT
DESCRIPTION:Set electro\n\n\n\n\n\n\n\n\n\n\n\n\n\n\n\n\n\nELEKTROPHIELD PROJEKT créé par June Phield depuis 2021 : musiques électroniques & une projection vidéo de graphes. Voyage sonore et mélodique électro-ambiant avec pour titres des noms de villes\, de pays en hommage à la multiculturalité.  \n\n\n\nAvec en guests inédits pour le concert du 9 mai 2026 : Cyrille : Saxo et Flûte et Denis : Drum \n\n\n\nAuteure\, compositrice et dessinatrice lyonnaise\, June Phield est mon nom d’artiste. \n\n\n\nJe présente ma Performance: ELEKTROPHIELD PROJEKT : démarche immersive\, à écouter sur Radio Canut sur le blog PATCHWORLD:patchworld | Un site utilisant Les blogs de Radio Canut \n\n\n\nJ’ai écrit des textes de chansons\, poèmes\, romans nouvelles en fanzines\, composé des musiques contemporaines en électroacoustique et composé des chansons \, des musiques pour la danse\, théâtre\, films etc. \n\n\n\nELEKTROPHIELD PROJEKT est le projet que je mène depuis 4 ans sur mes musiques électroniquessur une projection vidéo de mes dessins graphiquesJe mixe mes compos : électro-world\, ambiant\, transe avec improvisation au moog ou autres instruments\, j’expose et je projette en vidéos mes graphes\, dessins et peintures.ELEKTROPHIELD PROJEKT est un voyage sonore et mélodique avec pour titres des noms de villes\, de capitales \, de Pays…(représentant plus de 60 titres)en hommage à la multiculturalité.Les musiques de June Phield nous font voyager à travers des sons électroniques et des mélodies inspirées de ses études et expériences musicales transversales\, de la New wave\, au rock progressif\, métal\, indus\, elle joue dans des groupes dehip hop\,funk\, synthé/electro\, blues\,world et contemporaine (acousmatique) etc. \n\n\n\nContact : phieldjune@yahoo.fr \n\n\n\n \n\n\n\n\nBlog\n\n\n\n\n\n\n\n\n\n\n\n\n\n\nInfos pratiquesOuverture des portes à 20h\, spectacle à 20h30.L’adhésion à l’association est obligatoire pour assister au spectacle (valable pour la saison de septembre à juillet\, à prix libre dès 3€).L’entrée est à prix libre au chapeau pour les artistes !Attention : la Boulangerie du Prado n’accepte que les espèces.
URL:https://boulangerieduprado.com/evenement/elektrophield-projekt/
CATEGORIES:Concert,Programmation
ATTACH;FMTTYPE=image/jpeg:https://boulangerieduprado.com/wp-content/uploads/2026/04/elektrophield-9-mai.jpg
END:VEVENT
END:VCALENDAR