BEGIN:VCALENDAR
VERSION:2.0
PRODID:-//La Boulangerie du Prado - ECPv6.15.20//NONSGML v1.0//EN
CALSCALE:GREGORIAN
METHOD:PUBLISH
X-ORIGINAL-URL:https://boulangerieduprado.com
X-WR-CALDESC:Évènements pour La Boulangerie du Prado
REFRESH-INTERVAL;VALUE=DURATION:PT1H
X-Robots-Tag:noindex
X-PUBLISHED-TTL:PT1H
BEGIN:VTIMEZONE
TZID:UTC
BEGIN:STANDARD
TZOFFSETFROM:+0000
TZOFFSETTO:+0000
TZNAME:UTC
DTSTART:20250101T000000
END:STANDARD
END:VTIMEZONE
BEGIN:VEVENT
DTSTART;TZID=UTC:20260305T200000
DTEND;TZID=UTC:20260305T223000
DTSTAMP:20260422T141402
CREATED:20260214T120855Z
LAST-MODIFIED:20260214T231854Z
UID:2606-1772740800-1772749800@boulangerieduprado.com
SUMMARY:"Les Rembobineurs" - Collectif Traboule
DESCRIPTION:Théâtre d’improvisation\n\n\n\n\n\n\n\n\n\n\n\n\n\n\n\n\n\nSpectacle « Les Rembobineurs » \n\n\n\n\nPortfolio Vincent Leblois\n\n\n\n\n\n\n\n\n\n\n\n\n\n\n\n \n\n\n\n\n\n\n\n\nInfos pratiquesOuverture des portes à 20h\, spectacle à 20h30.L’adhésion à l’association est obligatoire pour assister au spectacle (valable pour la saison de septembre à juillet\, à prix libre dès 3€).L’entrée est à prix libre au chapeau pour les artistes !Attention : la Boulangerie du Prado n’accepte que les espèces.
URL:https://boulangerieduprado.com/evenement/cie-traboule/
CATEGORIES:Programmation,Théâtre
ATTACH;FMTTYPE=image/png:https://boulangerieduprado.com/wp-content/uploads/2026/02/affiche_REMBOBINEURS_v3.png
END:VEVENT
BEGIN:VEVENT
DTSTART;TZID=UTC:20260319T200000
DTEND;TZID=UTC:20260319T223000
DTSTAMP:20260422T141402
CREATED:20260214T100719Z
LAST-MODIFIED:20260214T103202Z
UID:2574-1773950400-1773959400@boulangerieduprado.com
SUMMARY:ZE RING
DESCRIPTION:Théâtre d’improvisation\n\n\n\n\n\n\n\n\n\n\n\n\n\n\n\n\n\nIls devront rivaliser d’ingéniosité et de créativité pour gagner ce duel !Uppercut\, dégagement\, blocage\, tous les coups seront permis pour provoquer des situations absurdes qui risquent bien de vous faire rire ! \n\n\n\n\n\n\n\n\n\n\n\n\n\n\n\n\n\n\n\n\n\n\n\n\n\nInfos pratiquesOuverture des portes à 20h\, spectacle à 20h30.L’adhésion à l’association est obligatoire pour assister au spectacle (valable pour la saison de septembre à juillet\, à prix libre dès 3€).L’entrée est à prix libre au chapeau pour les artistes !Attention : la Boulangerie du Prado n’accepte que les espèces.
URL:https://boulangerieduprado.com/evenement/ze-ring-2/
CATEGORIES:Programmation,Théâtre
ATTACH;FMTTYPE=image/jpeg:https://boulangerieduprado.com/wp-content/uploads/2026/02/affiche-ze-ring-19MARS-scaled.jpg
END:VEVENT
BEGIN:VEVENT
DTSTART;TZID=UTC:20260320T200000
DTEND;TZID=UTC:20260320T223000
DTSTAMP:20260422T141402
CREATED:20260214T112546Z
LAST-MODIFIED:20260214T112549Z
UID:2597-1774036800-1774045800@boulangerieduprado.com
SUMMARY:Les Fugitifs
DESCRIPTION:Théatre d’improvisation\n\n\n\n\n\n\n\n\n\n\n\n\n\n\n\n\n\nLes Fugitifs occupent régulièrement les planches de la Boulangerie du Prado pour un spectacle improvisé et inédit. \n\n\n\nPas après pas\, instant après instant\, un lieu prend vie et les projecteurs s’allument sur un décor imaginaire. Un spectacle aussi varié qu’il existe de lieux dans le monde. Un bœuf d’improvisation laissant libre court aux folies de nos comédiens ! \n\n\n\n\n\n\n\n\n\n\n\n\n\n\n\n\n\n\n\n\n\nInfos pratiquesOuverture des portes à 20h\, spectacle à 20h30.L’adhésion à l’association est obligatoire pour assister au spectacle (valable pour la saison de septembre à juillet\, à prix libre dès 3€).L’entrée est à prix libre au chapeau pour les artistes !Attention : la Boulangerie du Prado n’accepte que les espèces.
URL:https://boulangerieduprado.com/evenement/les-fugitifs-18/
CATEGORIES:Programmation,Théâtre
ATTACH;FMTTYPE=image/jpeg:https://boulangerieduprado.com/wp-content/uploads/2023/07/les-fugitifs.jpg
END:VEVENT
END:VCALENDAR