BEGIN:VCALENDAR
VERSION:2.0
PRODID:-//La Boulangerie du Prado - ECPv6.15.20//NONSGML v1.0//EN
CALSCALE:GREGORIAN
METHOD:PUBLISH
X-WR-CALNAME:La Boulangerie du Prado
X-ORIGINAL-URL:https://boulangerieduprado.com
X-WR-CALDESC:Évènements pour La Boulangerie du Prado
REFRESH-INTERVAL;VALUE=DURATION:PT1H
X-Robots-Tag:noindex
X-PUBLISHED-TTL:PT1H
BEGIN:VTIMEZONE
TZID:UTC
BEGIN:STANDARD
TZOFFSETFROM:+0000
TZOFFSETTO:+0000
TZNAME:UTC
DTSTART:20250101T000000
END:STANDARD
END:VTIMEZONE
BEGIN:VEVENT
DTSTART;TZID=UTC:20260521T200000
DTEND;TZID=UTC:20260521T223000
DTSTAMP:20260420T131815
CREATED:20260415T221452Z
LAST-MODIFIED:20260415T221454Z
UID:2748-1779393600-1779402600@boulangerieduprado.com
SUMMARY:Anecdotes gesticulées - Les Tumultueuses
DESCRIPTION:Conférence gesticulée\n\n\n\n\n\n\n\n\n\n\n\n\n\n\n\n\n\n\n\n\n\n\n\n\n\nDes vécus différents\, des sujets distincts mais une formation commune aux anecdotes gesticulées par les Tumultueuses pour finir ensemble sur une scène partagées. \n\n\n\nUne anecdote gesticulée est le format court de la conférence gesticulée et dure entre 15 et 30 minutes. \n\n\n\nVenez découvrir 6 univers\, entre le témoignage\, le théâtre et l’exposé autour de thématiques diverses comme le désir d’enfant\, la maltraitance en milieu psychiatrique\, la schizophrénie\, l’architecture\, les coulisses du théâtre et les micro-agressions racistes : \n\n\n\n« Amuse-toi bien ! Récit d’une artiste précaire » par Flore \n\n\n\n« Et si être nullipare c’était pas si nul ! » par Domitille \n\n\n\n« Les victimes dissociées n’attirent pas la sympathie des soignants » par Olga \n\n\n\n« Le fou est-il monde ? » par Toni \n\n\n\n« Déconstruire l’architecture » par Héloïse \n\n\n\n\n\n\n\n\n\n\n\n\n\n\n\n\n\n\n\n\n\n\n\n\n\nInfos pratiquesOuverture des portes à 20h\, spectacle à 20h30.L’adhésion à l’association est obligatoire pour assister au spectacle (valable pour la saison de septembre à juillet\, à prix libre dès 3€).L’entrée est à prix libre au chapeau pour les artistes !Attention : la Boulangerie du Prado n’accepte que les espèces.
URL:https://boulangerieduprado.com/evenement/anecdotes-gesticulees-les-tumultueuses/
CATEGORIES:Autre,Programmation
ATTACH;FMTTYPE=image/jpeg:https://boulangerieduprado.com/wp-content/uploads/2026/04/anecdote-gesticulee-carre.jpg
END:VEVENT
BEGIN:VEVENT
DTSTART;TZID=UTC:20260522T200000
DTEND;TZID=UTC:20260522T223000
DTSTAMP:20260420T131815
CREATED:20260417T225508Z
LAST-MODIFIED:20260417T225509Z
UID:2768-1779480000-1779489000@boulangerieduprado.com
SUMMARY:Sarah Mikovski
DESCRIPTION:Pop anglaise piano et voix\n\n\n\n\n\n\n\n\n\n\n\n\n\n\n\n\n\nInfos à venir \n\n\n\n\n\n\n\n\n\nInfos pratiquesL’adhésion à l’association est obligatoire pour participer (valable pour la saison de septembre à juillet\, à prix libre dès 3€).Attention : la Boulangerie du Prado n’accepte que les espèces.
URL:https://boulangerieduprado.com/evenement/sarah-mikovski/
CATEGORIES:Concert,Programmation
ATTACH;FMTTYPE=image/jpeg:https://boulangerieduprado.com/wp-content/uploads/2023/02/cropped-cropped-cropped-logo-laboulangerieduprado.jpg
END:VEVENT
BEGIN:VEVENT
DTSTART;TZID=UTC:20260523T200000
DTEND;TZID=UTC:20260523T223000
DTSTAMP:20260420T131815
CREATED:20260406T175053Z
LAST-MODIFIED:20260406T175055Z
UID:2706-1779566400-1779575400@boulangerieduprado.com
SUMMARY:Trio Samay invite Fitili
DESCRIPTION:Musique folklorique argentine + Musique des Balkans\n\n\n\n\n\n\n\n\n\n\n\n\n\n\n\n\n\n\n\n\n\n\n\n\n\n\n\n\n\n\n\n\n\n\n\n\n\nFitili\n\n\n\nFitili\, c’est la rencontre des voix de Sabine Amar\, Lilas Cognet et Chloé Peureux\, trois timbres qui s’entrelacent\, se frôlent et se fondent en polyphonies autour d’un répertoire venu des Balkans et d’Anatolie. Le nom « Fitili » vient de « mèche » en grec (φιτίλι)\, en bulgare (фитил) et en turc (fitil) : cette mèche s’enflamme pour éclairer des histoires venues d’ailleurs. Parfois\, la flamme vacille\, douce et fragile comme un murmure ; parfois\, elle s’embrase\, puissante et ardente\, éblouissant par son éclat. Chaque chant est une étincelle\, un fragment de voyage\, une invitation à partager des émotions qui traversent les frontières. \n\n\n\n\nFacebook\n\n\n\n\n \n\n\n\nTRIO SAMAY (Musiques traditionnelles d’Argentine)\n\n\n\nLe Trio Samay vous propose de voyager en Argentine\, à la découverte de ses musiques.  \n\n\n\nPartons sous le soleil de plomb de Santiago del Estero\, berceau de la chacareras où le violon répond au chant et les danseurs remuent la terre sèche et aride. Continuons vers les montagnes de Salta la belle\, ses zambas aux mouchoirs blancs et ses guitaristes jouant jusqu’au petit matin. Passons par Jujuy à la frontière bolivienne\, dans la Cordillère des Andes\, où le charango et les cajas nous entraînent dans le carnaval\, ses diables et ses têtes enfarinées.  \n\n\n\nPuisant dans les œuvres emblématiques des Manseros Santiaguenos\, de Cuchi Leguizamón\, ou de Leda et Maria\, le trio Samay mêle ses cordes aux voix pour mettre en lumière des pièces poétiques proches de la nature qui racontent l’amour\, les peines et la vie quotidienne des argentin-es des campagnes. « ADENTRO » !  \n\n\n\nNima Vaysse : Chant\, charango\, clarinette\, bombo  \n\n\n\nJuliette Delachaux : Chant\, violon\, bombo \n\n\n\nFabien Planquart : Guitare \n\n\n\n\nFacebook\n\n\n\nInstagram\n\n\n\nSite\n\n\n\nLinktree\n\n\n\n\n\n\n\n\n\n\n\n\n\n\n\n \n\n\n\n\n\n \n\n\n\n\n\n\n\n\nInfos pratiquesOuverture des portes à 20h\, spectacle à 20h30.L’adhésion à l’association est obligatoire pour assister au spectacle (valable pour la saison de septembre à juillet\, à prix libre dès 3€).L’entrée est à prix libre au chapeau pour les artistes !Attention : la Boulangerie du Prado n’accepte que les espèces.
URL:https://boulangerieduprado.com/evenement/trio-samay-invite-fitili/
CATEGORIES:Concert,Programmation
ATTACH;FMTTYPE=image/jpeg:https://boulangerieduprado.com/wp-content/uploads/2026/04/660490197_122107250835279446_3950510955945338265_n.jpg
END:VEVENT
BEGIN:VEVENT
DTSTART;TZID=UTC:20260528T200000
DTEND;TZID=UTC:20260528T223000
DTSTAMP:20260420T131815
CREATED:20260417T224337Z
LAST-MODIFIED:20260417T224340Z
UID:2766-1779998400-1780007400@boulangerieduprado.com
SUMMARY:Scène ouverte et bal folk
DESCRIPTION:Musiques et danses folk\n\n\n\n\n\n\n\n\n\n\n\n\n\n\n\n\n\nComme chaque dernier jeudi du mois (sauf exception)\, venez danser\, guincher\, vous divertir\, passer un bon moment\, au son des vielles et des accordéons. \n\n\n\n19h – 20h20 : bœuf ouvert à tous les musiciens\, toutes les musiciennes.  \n\n\n\n20h30 – 22h30 : Scène ouverte\, sur inscription de la part des musicien/nes la semaine précédent l’événement. \n\n\n\n\nInscription musiciens\n\n\n\n\n\n\nInfos pratiquesL’adhésion à l’association est obligatoire pour participer (valable pour la saison de septembre à juillet\, à prix libre dès 3€).Attention : la Boulangerie du Prado n’accepte que les espèces.
URL:https://boulangerieduprado.com/evenement/scene-ouverte-et-bal-folk-13/
CATEGORIES:Autre,Programmation
ATTACH;FMTTYPE=image/jpeg:https://boulangerieduprado.com/wp-content/uploads/2023/08/Blind_accordion_player.jpg
END:VEVENT
BEGIN:VEVENT
DTSTART;TZID=UTC:20260529T200000
DTEND;TZID=UTC:20260529T223000
DTSTAMP:20260420T131815
CREATED:20260417T223155Z
LAST-MODIFIED:20260417T223157Z
UID:2761-1780084800-1780093800@boulangerieduprado.com
SUMMARY:Folk en Stock + Süsskartoffeln
DESCRIPTION:Double Bal Folk\n\n\n\n\n\n\n\n\n\n\n\n\n\n\n\n\n\n\n\n\n\n\n\n\n\n\n\n\n\n\n\n\n\nVendredi 29 Mai : double bal folk à la Boulangerie !🎶\n\n\n\nVenez vibrer avec nous au rythme endiablé des mazurkas\, valses\, scottisches et autres polkas !  \n\n\n\nAvec les Süsskartoffeln\, quintette bien connu des amoureux.ses des sessions Trad’ à la Boulange (et des patates douces!) \n\n\n\nsuivi de Folk en Stock\, trio lyonnais flûte-accordéon-guitare (et chant occasionnel)\, qui enflamme les parquets en revisitant les différents répertoires des musiques trad’ à danser\, ou juste à écouter !  \n\n\n\n\nFacebook Folk en Stock\n\n\n\n\n\n\n\n\n\n\n\n\n\n\n\n\n\n\n\n\n\n\nInfos pratiquesOuverture des portes à 20h\, spectacle à 20h30.L’adhésion à l’association est obligatoire pour assister au spectacle (valable pour la saison de septembre à juillet\, à prix libre dès 3€).L’entrée est à prix libre au chapeau pour les artistes !Attention : la Boulangerie du Prado n’accepte que les espèces.
URL:https://boulangerieduprado.com/evenement/folk-en-stock-susskartoffeln/
CATEGORIES:Autre,Concert,Programmation
ATTACH;FMTTYPE=image/jpeg:https://boulangerieduprado.com/wp-content/uploads/2026/04/FeS-trio-dessin.jpg
END:VEVENT
BEGIN:VEVENT
DTSTART;TZID=UTC:20260530T200000
DTEND;TZID=UTC:20260530T223000
DTSTAMP:20260420T131815
CREATED:20260406T182142Z
LAST-MODIFIED:20260406T182611Z
UID:2716-1780171200-1780180200@boulangerieduprado.com
SUMMARY:LUBENICA
DESCRIPTION:Musique des Balkans\n\n\n\n\n\n\n\n\n\n\n\n\n\n\n\n\n\n\n\n\n\n\n\n\n\n\n\n\n\nLUBENICA – Saveurs musicales des Balkans🎶\n\n\n\nSous le nom pétillant de Lubenica – qui signifie « pastèque » dans plusieurs langues des Balkans – les musiciens de l’association À l’Ouest des Balkans vous invitent à un véritable festin sonore. Accordéons\, violons\, clarinettes\, guitare\, trompette et percussions se mêlent pour vous offrir un cocktail explosif de rythmes et de mélodies venus des Balkans et au-delà! Que vous soyez amateur de musiques traditionnelles ou simplement en quête d’un moment de fête et de partage\, laissez-vous entraîner dans un voyage musical qui vous mènera en Serbie\, Bulgarie\, Macédoine du Nord\, Roumanie\, Grèce\, Turquie… et même jusqu’en Arménie! Rythmes endiablés et ambiance assurée\, pour le plus grand plaisir de vos oreilles et de vos gambettes! \n\n\n\n\nSite association A l’Ouest des Balkans\n\n\n\nInstagram \n\n\n\nFacebook\n\n\n\n\n\n\n\n\n\n\n\n\n\n\n\n \n\n\n\n\n\n\n\n\n\n\n\n\nInfos pratiquesOuverture des portes à 20h\, spectacle à 20h30.L’adhésion à l’association est obligatoire pour assister au spectacle (valable pour la saison de septembre à juillet\, à prix libre dès 3€).L’entrée est à prix libre au chapeau pour les artistes !Attention : la Boulangerie du Prado n’accepte que les espèces.
URL:https://boulangerieduprado.com/evenement/lubenica-3/
CATEGORIES:Concert,Programmation
ATTACH;FMTTYPE=image/jpeg:https://boulangerieduprado.com/wp-content/uploads/2026/04/affiche-Lubenica.jpeg
END:VEVENT
END:VCALENDAR