BEGIN:VCALENDAR
VERSION:2.0
PRODID:-//La Boulangerie du Prado - ECPv6.15.20//NONSGML v1.0//EN
CALSCALE:GREGORIAN
METHOD:PUBLISH
X-ORIGINAL-URL:https://boulangerieduprado.com
X-WR-CALDESC:Évènements pour La Boulangerie du Prado
REFRESH-INTERVAL;VALUE=DURATION:PT1H
X-Robots-Tag:noindex
X-PUBLISHED-TTL:PT1H
BEGIN:VTIMEZONE
TZID:UTC
BEGIN:STANDARD
TZOFFSETFROM:+0000
TZOFFSETTO:+0000
TZNAME:UTC
DTSTART:20240101T000000
END:STANDARD
END:VTIMEZONE
BEGIN:VEVENT
DTSTART;TZID=UTC:20250313T170000
DTEND;TZID=UTC:20250405T170000
DTSTAMP:20260423T084248
CREATED:20250219T141730Z
LAST-MODIFIED:20250219T141732Z
UID:1843-1741885200-1743872400@boulangerieduprado.com
SUMMARY:Exposition A travers tes yeux
DESCRIPTION:Anna Ponsonnet \n\n\n\n\n\n\n\n\n\n\n\n\n\n\n\n\n\nAnna Ponsonnet\, artiste peintre basée à Lyon elle ouvre son univers aux couleurs\, à la matière et aux gestes. Elle ne perd rien\, le hasard comme les détails sont en dualité constante dans ses tableaux. Immersion et expérience\, elle incite le spectateur à se plonger directement dans les grands tableaux de couleurs\, animant les lieux et les esprits.  \n\n\n\n\nInstagram\n\n\n\n\n\n\nElle peint ce qu’elle ne dit pas\, elle peint ce qui la submerge\, elle peint ce qu’elle ne connais pas\, elle peint ses émotions\, elle peint son attention\, elle se dépeint.  \n\n\n\nCréant un voyage.   \n\n\n\nEntre matière et geste\, la limite est fine  \n\n\n\nEntre conscient et inconscient\, le sur moi. Cette censure en nous\, elle essaye de la dépasser. Freud dirais que c’est impossible\, elle\, essaye.  \n\n\n\nEssayer et découvrez !  \n\n\n\nInfos pratiquesL’adhésion à l’association est obligatoire pour participer (valable pour la saison de septembre à juillet\, à prix libre dès 3€).Attention : la Boulangerie du Prado n’accepte que les espèces.
URL:https://boulangerieduprado.com/evenement/exposition-a-travers-tes-yeux/
CATEGORIES:Expositions
ATTACH;FMTTYPE=image/jpeg:https://boulangerieduprado.com/wp-content/uploads/2025/02/Affiche-a-modifier-3-1.jpg
END:VEVENT
BEGIN:VEVENT
DTSTART;TZID=UTC:20250403T200000
DTEND;TZID=UTC:20250403T223000
DTSTAMP:20260423T084248
CREATED:20250201T182056Z
LAST-MODIFIED:20250201T182408Z
UID:1786-1743710400-1743719400@boulangerieduprado.com
SUMMARY:Ze ring
DESCRIPTION:Théâtre d’improvisation\n\n\n\n\n\n\n\n\n\n\n\n\n\nUn public complice et taquin donnera trois défis aux deux improvisateurs. Ils devront rivaliser d’ingéniosité et de créativité pour gagner ce duel ! \n\n\n\nUppercut\, dégagement\, blocage\, tous les coups seront permis pour provoquer des situations absurdes qui risquent bien de vous faire rire ! \n\n\n\n\n\n\n\nInfos pratiquesOuverture des portes à 20h\, spectacle à 20h30.L’adhésion à l’association est obligatoire pour assister au spectacle (valable pour la saison de septembre à juillet\, à prix libre dès 3€).L’entrée est à prix libre au chapeau pour les artistes !Attention : la Boulangerie du Prado n’accepte que les espèces.
URL:https://boulangerieduprado.com/evenement/ze-ring/
CATEGORIES:Théâtre
ATTACH;FMTTYPE=image/jpeg:https://boulangerieduprado.com/wp-content/uploads/2025/02/affiche-ze-ring-scaled.jpg
END:VEVENT
BEGIN:VEVENT
DTSTART;TZID=UTC:20250404T200000
DTEND;TZID=UTC:20250404T223000
DTSTAMP:20260423T084248
CREATED:20250313T152729Z
LAST-MODIFIED:20250313T152731Z
UID:1898-1743796800-1743805800@boulangerieduprado.com
SUMMARY:Les indécis
DESCRIPTION:Duo piano voix\n\n\n\n\n\n\n\n\n\n\n\n\n\n\n\n\n\nDes grands classiques réinterprétés par la voix claire\, puissante et brillante de Sarah Gousse\, et la clavier de Thomas Rondepierre. De la bonne musique\, tout simplement. \n\n\n\n\n\n\n\n\n\n\n\n\n\n \n\n\n\nInfos pratiquesOuverture des portes à 20h\, spectacle à 20h30.L’adhésion à l’association est obligatoire pour assister au spectacle (valable pour la saison de septembre à juillet\, à prix libre dès 3€).L’entrée est à prix libre au chapeau pour les artistes !Attention : la Boulangerie du Prado n’accepte que les espèces.
URL:https://boulangerieduprado.com/evenement/les-indecis/
CATEGORIES:Concert
ATTACH;FMTTYPE=image/jpeg:https://boulangerieduprado.com/wp-content/uploads/2025/03/les-indecis.jpg
END:VEVENT
BEGIN:VEVENT
DTSTART;TZID=UTC:20250405T200000
DTEND;TZID=UTC:20250405T223000
DTSTAMP:20260423T084248
CREATED:20250313T154908Z
LAST-MODIFIED:20250313T154909Z
UID:1909-1743883200-1743892200@boulangerieduprado.com
SUMMARY:Orange Sanguine
DESCRIPTION:Théâtre d’improvisation\n\n\n\n\n\n\n\n\n\n\n\n\n\n\n\n\n\nTranches d’immeuble\n\n\n\nQue vous aimiez les réunions de copro\, les fêtes des voisins\, jeter des coups d’œil chez le voisin d’en face\, râler parce que les étudiants du dessus font trop de bruit\, discuter 5 minutes devant les boîtes aux lettres\, emprunter la perceuse de la belle brune de la porte d’en face ou rien de tout ça\, les voisins\, qu’on les aime ou qu’on les déteste font partie de notre vie alors venez nous raconter vos plus belles anecdotes de voisinage ! La troupe des Orange Sanguine se chargera de leur donner vie sur scène lors d’une soirée improvisée que nous espérons mémorable ! \n\n\n\n\n\n\n\n\n\n \n\n\n\nInfos pratiquesOuverture des portes à 20h\, spectacle à 20h30.L’adhésion à l’association est obligatoire pour assister au spectacle (valable pour la saison de septembre à juillet\, à prix libre dès 3€).L’entrée est à prix libre au chapeau pour les artistes !Attention : la Boulangerie du Prado n’accepte que les espèces.
URL:https://boulangerieduprado.com/evenement/orange-sanguine-2/
CATEGORIES:Théâtre
ATTACH;FMTTYPE=image/jpeg:https://boulangerieduprado.com/wp-content/uploads/2025/03/orange-sanguine-tranches-immeuble.jpeg
END:VEVENT
BEGIN:VEVENT
DTSTART;TZID=UTC:20250410T000000
DTEND;TZID=UTC:20250507T235959
DTSTAMP:20260423T084248
CREATED:20250325T165855Z
LAST-MODIFIED:20250325T171356Z
UID:1931-1744243200-1746662399@boulangerieduprado.com
SUMMARY:Aux origines
DESCRIPTION:Exposition de Samuel Desbouys et Boris Raoult\n\n\n\n\n\n\n\n\n\n\n\n\n\n\n\n\n\nPyramide de Lyon et paysage : Itinéraire d’un peintre urbain\n\n\n\nRetrouvez les œuvres d’un artiste inspiré\, subjugué\, perturbé. Il arpente et peint un Lyon des années 2030-2060 marqué par la construction de la grande Pyramide de Lyon. Des documents d’époque reviennent sur les étapes les plus importantes de l’émergence de ce monument unique et perdurable. \n\n\n\nVernissage le jeudi 10 avril à 19h. \n\n\n\nFinissage\, pour revoir l’exposition et les artistes\, le samedi 3 mai à 14h30. \n\n\n\n\nFacebook\n\n\n\nInstagram\n\n\n\n\n\n\nInfos pratiquesL’adhésion à l’association est obligatoire pour participer (valable pour la saison de septembre à juillet\, à prix libre dès 3€).Attention : la Boulangerie du Prado n’accepte que les espèces.
URL:https://boulangerieduprado.com/evenement/aux-origines/
CATEGORIES:Expositions
ATTACH;FMTTYPE=image/jpeg:https://boulangerieduprado.com/wp-content/uploads/2025/03/aux-origines-scaled.jpg
END:VEVENT
BEGIN:VEVENT
DTSTART;TZID=UTC:20250410T190000
DTEND;TZID=UTC:20250410T210000
DTSTAMP:20260423T084248
CREATED:20250325T165051Z
LAST-MODIFIED:20250325T171331Z
UID:1927-1744311600-1744318800@boulangerieduprado.com
SUMMARY:Vernissage : Aux origines
DESCRIPTION:Pyramide de Lyon et paysage : Itinéraire d’un peintre urbain\n\n\n\n\n\n\n\n\n\n\n\n\n\n\n\n\n\nExposition de Samuel Desbouys et Boris Raoult\, texture sonore par Orfeo Volta\n\n\n\nRetrouvez les œuvres d’un artiste inspiré\, subjugué\, perturbé. Il arpente et peint un Lyon des années 2030-2060 marqué par la construction de la grande Pyramide de Lyon. Des documents d’époque reviennent sur les étapes les plus importantes de l’émergence de ce monument unique et perdurable. \n\n\n\n\nFacebook\n\n\n\nInstagram\n\n\n\n\n\n\nInfos pratiquesL’adhésion à l’association est obligatoire pour participer (valable pour la saison de septembre à juillet\, à prix libre dès 3€).Attention : la Boulangerie du Prado n’accepte que les espèces.
URL:https://boulangerieduprado.com/evenement/vernissage-aux-origines/
CATEGORIES:Vernissage
ATTACH;FMTTYPE=image/jpeg:https://boulangerieduprado.com/wp-content/uploads/2025/03/aux-origines-scaled.jpg
END:VEVENT
BEGIN:VEVENT
DTSTART;TZID=UTC:20250411T200000
DTEND;TZID=UTC:20250411T223000
DTSTAMP:20260423T084248
CREATED:20250313T160305Z
LAST-MODIFIED:20250313T160307Z
UID:1915-1744401600-1744410600@boulangerieduprado.com
SUMMARY:Rimé
DESCRIPTION:Rap\n\n\n\n\n\n\n\n\n\n\n\n\n\n\n\n\n\nCicatrices créatrices.  \n\n\n\nDeux mots forts et sans équivoque que l’on pourrait utiliser pour présenter l’univers artistique de Rimé\, rappeur à la plume mélancoliquement engagée.  \n\n\n\nUne poésie sombre teintée d’engagements humains\, sociaux\, politiques\, de sujets sensibles\, de vécus personnels et de tourments entêtants. \n\n\n\nAvec ses deux collègues et amis\, Horizon Zéro\, aux platines\, et Téty\, aux backs\, Rimé viendra présenter son nouvel album « J’aurais voulu être un art triste ». \n\n\n\nCrédit photo : Claude Van Ryssel. \n\n\n\n\nÉcouter l’album\n\n\n\n\n\n\n\n\n\n\n\n\n\n\n\n \n\n\n\n\n\n\n\n\nInfos pratiquesOuverture des portes à 20h\, spectacle à 20h30.L’adhésion à l’association est obligatoire pour assister au spectacle (valable pour la saison de septembre à juillet\, à prix libre dès 3€).L’entrée est à prix libre au chapeau pour les artistes !Attention : la Boulangerie du Prado n’accepte que les espèces.
URL:https://boulangerieduprado.com/evenement/rime-2/
CATEGORIES:Concert
ATTACH;FMTTYPE=image/jpeg:https://boulangerieduprado.com/wp-content/uploads/2025/03/rime-scaled.jpg
END:VEVENT
BEGIN:VEVENT
DTSTART;TZID=UTC:20250417T200000
DTEND;TZID=UTC:20250417T223000
DTSTAMP:20260423T084248
CREATED:20250313T160900Z
LAST-MODIFIED:20250325T171836Z
UID:1918-1744920000-1744929000@boulangerieduprado.com
SUMMARY:LIMUL
DESCRIPTION:Improvisation musicale et théâtrale\n\n\n\n\n\n\n\n\n\n\n\n\n\n\n\n\n\nLa ligue d’improvisation musicale de Lyon est de retour ! \n\n\n\nSi vous voulez voir s’affronter 2 équipes (rouges et bleus) improvisant sur des thèmes improbables tirés au sort\, que vous aimez rigoler autant que la musique de qualité cet événements est fait pour vous ! \n\n\n\nLes musiciens les plus aguerris seront poussés dans leurs retranchements\, et amenés à faire preuve d’imagination pour s’adapter aux thèmes et styles les plus divers\, tout ça sous un arbitrage impitoyable\, et dans la bonne humeur et la loufoquerie ! \n\n\n\n\nFacebook\n\n\n\n\n\n\n\n\n\n\n\n\n\n\n\n \n\n\n\n\n\n\n\n\nInfos pratiquesOuverture des portes à 20h\, spectacle à 20h30.L’adhésion à l’association est obligatoire pour assister au spectacle (valable pour la saison de septembre à juillet\, à prix libre dès 3€).L’entrée est à prix libre au chapeau pour les artistes !Attention : la Boulangerie du Prado n’accepte que les espèces.
URL:https://boulangerieduprado.com/evenement/limul-2/
CATEGORIES:Autre,Théâtre
ATTACH;FMTTYPE=image/jpeg:https://boulangerieduprado.com/wp-content/uploads/2025/03/limul.jpg
END:VEVENT
BEGIN:VEVENT
DTSTART;TZID=UTC:20250418T200000
DTEND;TZID=UTC:20250418T223000
DTSTAMP:20260423T084248
CREATED:20250313T155642Z
LAST-MODIFIED:20250313T155644Z
UID:1912-1745006400-1745015400@boulangerieduprado.com
SUMMARY:Duo Flamenco Canela
DESCRIPTION:Flamenco\n\n\n\n\n\n\n\n\n\n\n\n\n\n\n\n\n\nMyri Tchalian et Pepe Haro dans un duo de flamenco à la fois traditionnel et original. Du chant\, de la danse\, de la guitare\, des percussions. Des alegrias aux sevillanas avec castagnettes en passant par des chansons flamenco-pop ! Une soirée sous le signe des états d’âme à l’andalouse…. \n\n\n\n\nSite web Myri Tchalian\n\n\n\nSite web Pepe Haro\n\n\n\nFacebook\n\n\n\nInstagram\n\n\n\n\n\n\n\n\n\n\n\n\n\n\n\n \n\n\n\n\n\n\n\n\nInfos pratiquesOuverture des portes à 20h\, spectacle à 20h30.L’adhésion à l’association est obligatoire pour assister au spectacle (valable pour la saison de septembre à juillet\, à prix libre dès 3€).L’entrée est à prix libre au chapeau pour les artistes !Attention : la Boulangerie du Prado n’accepte que les espèces.
URL:https://boulangerieduprado.com/evenement/duo-flamenco-canela/
CATEGORIES:Autre,Concert
ATTACH;FMTTYPE=image/jpeg:https://boulangerieduprado.com/wp-content/uploads/2025/03/duo-flamenco-canela.jpg
END:VEVENT
BEGIN:VEVENT
DTSTART;TZID=UTC:20250419T200000
DTEND;TZID=UTC:20250419T223000
DTSTAMP:20260423T084248
CREATED:20250313T153159Z
LAST-MODIFIED:20250313T153300Z
UID:1901-1745092800-1745101800@boulangerieduprado.com
SUMMARY:Cutting corners
DESCRIPTION:Rock\n\n\n\n\n\n\n\n\n\n\n\n\n\n\n\n\n\nLe groupe « Cutting Corners » propose une anthologie du rock des années 70 à nos jours\, avec des reprises de groupes légendaires : Led Zeppelin\, AC/DC\, Rolling stones\, Arctic Monkeys\, Red hot Chili peppers\, Muse … et bien d’autres. Un véritable condensé de l’histoire du rock en une soirée ! \n\n\n\n\nFacebook\n\n\n\n\n\n\n\n\n\n\n\n\n\n\n\n \n\n\n\n\n\n\n\n\nInfos pratiquesOuverture des portes à 20h\, spectacle à 20h30.L’adhésion à l’association est obligatoire pour assister au spectacle (valable pour la saison de septembre à juillet\, à prix libre dès 3€).L’entrée est à prix libre au chapeau pour les artistes !Attention : la Boulangerie du Prado n’accepte que les espèces.
URL:https://boulangerieduprado.com/evenement/cutting-corners/
CATEGORIES:Concert
ATTACH;FMTTYPE=image/jpeg:https://boulangerieduprado.com/wp-content/uploads/2025/03/cutting-corners-scaled.jpg
END:VEVENT
BEGIN:VEVENT
DTSTART;TZID=UTC:20250424T190000
DTEND;TZID=UTC:20250424T223000
DTSTAMP:20260423T084248
CREATED:20250201T182928Z
LAST-MODIFIED:20250201T182930Z
UID:1794-1745521200-1745533800@boulangerieduprado.com
SUMMARY:Scène ouverte & bal folk
DESCRIPTION:Musiques et danses folk\n\n\n\n\n\n\n\n\n\n\n\n\n\n\n\n\n\nComme chaque dernier jeudi du mois (sauf exception)\, venez danser\, guincher\, vous divertir\, passer un bon moment\, au son des vielles et des accordéons. \n\n\n\n19h – 20h20 : bœuf ouvert à tous les musiciens\, toutes les musiciennes.  \n\n\n\n20h30 – 22h30 : Scène ouverte\, sur inscription de la part des musicien/nes la semaine précédent l’événement. \n\n\n\n\nInscription musiciens\n\n\n\n\n\n\nInfos pratiquesL’adhésion à l’association est obligatoire pour participer (valable pour la saison de septembre à juillet\, à prix libre dès 3€).Attention : la Boulangerie du Prado n’accepte que les espèces.
URL:https://boulangerieduprado.com/evenement/scene-ouverte-bal-folk-9/
CATEGORIES:Autre,Concert
ATTACH;FMTTYPE=image/jpeg:https://boulangerieduprado.com/wp-content/uploads/2023/08/Blind_accordion_player.jpg
END:VEVENT
BEGIN:VEVENT
DTSTART;TZID=UTC:20250425T200000
DTEND;TZID=UTC:20250425T223000
DTSTAMP:20260423T084248
CREATED:20250313T154029Z
LAST-MODIFIED:20250313T154031Z
UID:1906-1745611200-1745620200@boulangerieduprado.com
SUMMARY:Nostos + Ezgili Kervan
DESCRIPTION:Rébétiko\, musiques d’Anatolie\n\n\n\n\n\n\n\n\n\n\n\n\n\n\n\n\n\nQuand la musique des bas-fonds d’Athènes rencontre la fête cosmopolite d’Istanbul… \n\n\n\nPremière partie\n\n\n\nLe Rebétiko sera à l’honneur avec un trio de musiciens rejoint par plusieurs invités.Le Rebétiko est un style urbain\, né au début du XXe siècle dans le port du Pirée près d’Athènes. Musique des rebelles et des exilés\, on parle souvent de Blues grec pour le définir. Le Rebétiko est une musique créée et jouée à l’époque par des musiciens des classes populaires\, abordant des thèmes tels que la marginalité\, la misère\, la prison\, la mort et aussi\, l’amour… surtout quand il est impossible! On se laisse emporter par ses rythmes entêtants et ses textes mélancoliques au son du bouzouki\, instrument emblématique de la musique grecque. \n\n\n\nDeuxième partie\n\n\n\nEzgili Kervan (« la caravane mélodique » en turc) propose un répertoire festif de musique d’Anatolie\, des rues d’Istanbul aux villages kurdes en faisant un détour par les rives de la Mer Noire ou encore une incursion sur les îles grecques. La voix orientale de Sabine\, les clarinettes eurasiennes de Manon\, la trompette balkanique de Thomas\, le violon virtuose d’Alexia et le saz mésopotamien d’Okan\, se mêlent aux rythmes endiablés des percussions de Maxime. Les langues turque\, kurde et grecque se mélangent dans des mélodies qui font se rapprocher les cultures et rassemblent tout le monde dans la danse. \n\n\n\n\nFacebook\n\n\n\n\n\n\n\n\n\n\n\n\n\n\n\n \n\n\n\n\n\n\n\n\nInfos pratiquesOuverture des portes à 20h\, spectacle à 20h30.L’adhésion à l’association est obligatoire pour assister au spectacle (valable pour la saison de septembre à juillet\, à prix libre dès 3€).L’entrée est à prix libre au chapeau pour les artistes !Attention : la Boulangerie du Prado n’accepte que les espèces.
URL:https://boulangerieduprado.com/evenement/nostos-ezgili-kervan/
CATEGORIES:Concert
ATTACH;FMTTYPE=image/png:https://boulangerieduprado.com/wp-content/uploads/2025/03/Ezgili-Kervan.png
END:VEVENT
BEGIN:VEVENT
DTSTART;TZID=UTC:20250426T200000
DTEND;TZID=UTC:20250426T223000
DTSTAMP:20260423T084248
CREATED:20250313T161020Z
LAST-MODIFIED:20250325T164457Z
UID:1920-1745697600-1745706600@boulangerieduprado.com
SUMMARY:Les doigts qui dansent
DESCRIPTION:Trad folk\n\n\n\n\n\n\n\n\n\n\n\n\n\n\n\n\n\nDanseurs confirmés ou débutants\, laissez-vous entraîner au son de la harpe\, du violon\, de l’accordéon et du chant\, pour des danses trad et folk des quatre coins de la France et de l’Europe. Tantôt gaie\, tantôt douce\, parfois envoûtante\, toute en harmonie et en finesse\, une musique qui vous emportera dans un autre univers. \n\n\n\n\nFacebook\n\n\n\n\n\n\n\n\n\n\n\n\n\n\n\n \n\n\n\n\nInfos pratiquesOuverture des portes à 20h\, spectacle à 20h30.L’adhésion à l’association est obligatoire pour assister au spectacle (valable pour la saison de septembre à juillet\, à prix libre dès 3€).L’entrée est à prix libre au chapeau pour les artistes !Attention : la Boulangerie du Prado n’accepte que les espèces.
URL:https://boulangerieduprado.com/evenement/doigts-qui-dansent/
CATEGORIES:Concert
ATTACH;FMTTYPE=image/jpeg:https://boulangerieduprado.com/wp-content/uploads/2025/03/doigtsquidansent.jpg
END:VEVENT
END:VCALENDAR