BEGIN:VCALENDAR
VERSION:2.0
PRODID:-//La Boulangerie du Prado - ECPv6.15.20//NONSGML v1.0//EN
CALSCALE:GREGORIAN
METHOD:PUBLISH
X-WR-CALNAME:La Boulangerie du Prado
X-ORIGINAL-URL:https://boulangerieduprado.com
X-WR-CALDESC:Évènements pour La Boulangerie du Prado
REFRESH-INTERVAL;VALUE=DURATION:PT1H
X-Robots-Tag:noindex
X-PUBLISHED-TTL:PT1H
BEGIN:VTIMEZONE
TZID:UTC
BEGIN:STANDARD
TZOFFSETFROM:+0000
TZOFFSETTO:+0000
TZNAME:UTC
DTSTART:20250101T000000
END:STANDARD
END:VTIMEZONE
BEGIN:VEVENT
DTSTART;TZID=UTC:20260305T200000
DTEND;TZID=UTC:20260305T223000
DTSTAMP:20260420T085053
CREATED:20260214T120855Z
LAST-MODIFIED:20260214T231854Z
UID:2606-1772740800-1772749800@boulangerieduprado.com
SUMMARY:"Les Rembobineurs" - Collectif Traboule
DESCRIPTION:Théâtre d’improvisation\n\n\n\n\n\n\n\n\n\n\n\n\n\n\n\n\n\nSpectacle « Les Rembobineurs » \n\n\n\n\nPortfolio Vincent Leblois\n\n\n\n\n\n\n\n\n\n\n\n\n\n\n\n \n\n\n\n\n\n\n\n\nInfos pratiquesOuverture des portes à 20h\, spectacle à 20h30.L’adhésion à l’association est obligatoire pour assister au spectacle (valable pour la saison de septembre à juillet\, à prix libre dès 3€).L’entrée est à prix libre au chapeau pour les artistes !Attention : la Boulangerie du Prado n’accepte que les espèces.
URL:https://boulangerieduprado.com/evenement/cie-traboule/
CATEGORIES:Programmation,Théâtre
ATTACH;FMTTYPE=image/png:https://boulangerieduprado.com/wp-content/uploads/2026/02/affiche_REMBOBINEURS_v3.png
END:VEVENT
BEGIN:VEVENT
DTSTART;TZID=UTC:20260306T200000
DTEND;TZID=UTC:20260306T223000
DTSTAMP:20260420T085053
CREATED:20260214T095845Z
LAST-MODIFIED:20260214T095848Z
UID:2569-1772827200-1772836200@boulangerieduprado.com
SUMMARY:Maya and the Green Hornet
DESCRIPTION:Duo violon/alto et guitare\n\n\n\n\n\n\n\n\n\n\n\n\n\n\n\n\n\nMAYA AND THE GREEN HORNET vous invite à leur  concert qui s’intitule « De Ida e Volta – De Rio à Buenos Aires »Leonor au violon\, et Ludovic à la guitare nous invitent à un voyage surprenant et coloré. Entre l’Argentine et le Brésil\, ils nous emmènent du tango au choro\, du candombe au prélude. \n\n\n\nLe duo est né d’un désir d’expression musicale simple et directe\, transcendée par l’allégresse d’une virtuosité instrumentale. Ce qui les a amenés vers un répertoire à la fois varié et surprenant\, mélangeant trésors du répertoire original\, et arrangements revisitant les chefs d’œuvres historiques. \n\n\n\nLe souci de partage et de simplicité est au cœur de leur démarche… alors\, café ou chocolat ? \n\n\n\n\nSite\n\n\n\nÉvénement Facebook\n\n\n\n\n\n\n\n\n\n\n\n\n\n\n\n \n\n\n\n\n\n\n\n\nInfos pratiquesOuverture des portes à 20h\, spectacle à 20h30.L’adhésion à l’association est obligatoire pour assister au spectacle (valable pour la saison de septembre à juillet\, à prix libre dès 3€).L’entrée est à prix libre au chapeau pour les artistes !Attention : la Boulangerie du Prado n’accepte que les espèces.
URL:https://boulangerieduprado.com/evenement/maya-and-the-green-hornet/
CATEGORIES:Concert,Programmation
ATTACH;FMTTYPE=image/jpeg:https://boulangerieduprado.com/wp-content/uploads/2026/02/Maya.jpg
END:VEVENT
BEGIN:VEVENT
DTSTART;TZID=UTC:20260307T200000
DTEND;TZID=UTC:20260307T223000
DTSTAMP:20260420T085053
CREATED:20260214T104910Z
LAST-MODIFIED:20260214T105310Z
UID:2582-1772913600-1772922600@boulangerieduprado.com
SUMMARY:Wattson's + Platypus Experience
DESCRIPTION:Pop rock\n\n\n\n\n\n\n\n\n\n\n\n\n\n\n\n\n\n\n\n\n\n\n\n\n\nCONCERT exceptionnel à la Boulangerie du Prado : Wattson’s et les Platypus Experience. \n\n\n\nComment vous ne les connaissez pas ? Laissez moi vous en dire deux mots. \n\n\n\n Wattson’s\n\n\n\nUn groupe lyonnais\, créé en 2015\, qui vous propose des compos aussi débridées que stimulantes et reprises largement réarrangées.Instagram : @leswattsons \n\n\n\n\nInstagram\n\n\n\nÉvènement Facebook\n\n\n\n\n\n\n\n\n+ Platypus Experience\n\n\n\nPlatypus Experience\, comme l’animal éponyme\, les Platypus vont dans tous les sens. Groupe aux influences diverses\, ces cinq drôle d’animaux se regroupent autour de l’ambition de faire passer un bon moment aux gens. Entre morceaux énergiques qui donnent envie de bouger et des titres plus doux\, on vous propose un répertoire pop-rock de reprise. \n\n\n\nInstagram : @platypus_experience \n\n\n\n\nInstagram\n\n\n\n\n\n\n\n\n\n\n\n\n\n\nInfos pratiquesOuverture des portes à 20h\, spectacle à 20h30.L’adhésion à l’association est obligatoire pour assister au spectacle (valable pour la saison de septembre à juillet\, à prix libre dès 3€).L’entrée est à prix libre au chapeau pour les artistes !Attention : la Boulangerie du Prado n’accepte que les espèces.
URL:https://boulangerieduprado.com/evenement/wattsons-platypus-experience/
CATEGORIES:Concert,Programmation
ATTACH;FMTTYPE=image/png:https://boulangerieduprado.com/wp-content/uploads/2026/02/baniere-facebook-260307.png
END:VEVENT
BEGIN:VEVENT
DTSTART;TZID=UTC:20260312T190000
DTEND;TZID=UTC:20260312T223000
DTSTAMP:20260420T085053
CREATED:20260214T120325Z
LAST-MODIFIED:20260317T081439Z
UID:2604-1773342000-1773354600@boulangerieduprado.com
SUMMARY:Vernissage "Suivre le fil bleu" + Loan (piano et saxo)
DESCRIPTION:Exposition + concert (piano et saxo)\n\n\n\n\n\n\n\n\n\n\n\n\n\n\n\n\n\n\n\n\n\n\n\n\n\n\n\n2e partie : Loan\n\n\n\nPiano et saxo  \n\n\n\n(@loanblt) \n\n\n\n\n\n\n\n\n\n\n\nInfos pratiquesOuverture des portes à 20h\, spectacle à 20h30.L’adhésion à l’association est obligatoire pour assister au spectacle (valable pour la saison de septembre à juillet\, à prix libre dès 3€).L’entrée est à prix libre au chapeau pour les artistes !Attention : la Boulangerie du Prado n’accepte que les espèces.
URL:https://boulangerieduprado.com/evenement/vernissage-5/
CATEGORIES:Expositions,Programmation,Vernissage
ATTACH;FMTTYPE=image/png:https://boulangerieduprado.com/wp-content/uploads/2026/02/1.png
END:VEVENT
BEGIN:VEVENT
DTSTART;TZID=UTC:20260313T200000
DTEND;TZID=UTC:20260313T223000
DTSTAMP:20260420T085053
CREATED:20260214T121528Z
LAST-MODIFIED:20260214T230831Z
UID:2608-1773432000-1773441000@boulangerieduprado.com
SUMMARY:ELEKTROPHIELD PROJEKT + Projection INFIMINITY
DESCRIPTION:Set electro\n\n\n\n\n\n\n\n\n\n\n\n\n\n\n\n\n\nAuteure\, compositrice et dessinatrice lyonnaise\, June Phield est mon nom d’artiste \n\n\n\nJe présente ma Performance: ELEKTROPHIELD PROJEKT : démarche immersive\, à écouter sur Radio Canut sur le blog PATCHWORLD:patchworld | Un site utilisant Les blogs de Radio Canut \n\n\n\nJ’ai écrit des textes de chansons\, poèmes\, romans nouvelles en fanzines\, composé des musiques contemporaines en électroacoustique et composé des chansons \, des musiques pour la danse\, théâtre\, films etc. \n\n\n\nELEKTROPHIELD PROJEKT est le projet que je mène depuis 4 ans sur mes musiques électroniquessur une projection vidéo de mes dessins graphiquesJe mixe mes compos : électro-world\, ambiant\, transe avec improvisation au moog ou autres instruments\, j’expose et je projette en vidéos mes graphes\, dessins et peintures.ELEKTROPHIELD PROJEKT est un voyage sonore et mélodique avec pour titres des noms de villes\, de capitales \, de Pays…(représentant plus de 60 titres)en hommage à la multiculturalité.Les musiques de June Phield nous font voyager à travers des sons électroniques et des mélodies inspirées de ses études et expériences musicales transversales\, de la New wave\, au rock progressif\, métal\, indus\, elle joue dans des groupes dehip hop\,funk\, synthé/electro\, blues\,world et contemporaine (acousmatique) etc. \n\n\n\nContact : phieldjune@yahoo.fr \n\n\n\n \n\n\n\n \n\n\n\nINFIMINITY:L’infini FémininDessins\, peintures: aux stylos\, aux feutres\, à l’encre de chine\, à la peinture acrylique…Nus féminins\, portraits\, abstraits sont les thématiques de cette exposition.Parle du féminin au sens large\, j’interroge le langage et la langue.Pourquoi certains mots sont au féminin comme la Terre et d’autre masculin commele monde ?Qu’est ce que l’effet Matilda?Qui était Rosemary Isabel Brown ? Et d’autres noms de femmes oubliées\,des femmes originales à redécouvrirEt bien d’autres réflexions à chaque nouvel évènement…& Mes textes autour du féminin présenter aux vernissages en lien avec les lieux d’exposition \n\n\n\n\nBlog\n\n\n\n\n\n\n\n\n\n\n\n\n\n\nInfos pratiquesOuverture des portes à 20h\, spectacle à 20h30.L’adhésion à l’association est obligatoire pour assister au spectacle (valable pour la saison de septembre à juillet\, à prix libre dès 3€).L’entrée est à prix libre au chapeau pour les artistes !Attention : la Boulangerie du Prado n’accepte que les espèces.
URL:https://boulangerieduprado.com/evenement/elektrophield/
CATEGORIES:Concert,Programmation
ATTACH;FMTTYPE=image/jpeg:https://boulangerieduprado.com/wp-content/uploads/2026/02/affiche-5-boulange-2026.jpg
END:VEVENT
BEGIN:VEVENT
DTSTART;TZID=UTC:20260314T200000
DTEND;TZID=UTC:20260314T223000
DTSTAMP:20260420T085053
CREATED:20260214T102458Z
LAST-MODIFIED:20260214T195624Z
UID:2577-1773518400-1773527400@boulangerieduprado.com
SUMMARY:SLAP + MATECE
DESCRIPTION:Funk + Pop soul folk\n\n\n\n\n\n\n\n\n\n\n\n\n\n\n\n\n\nSLAP\, c’est une histoire de groove\, de feeling et de partage.Des rythmes funk\, de la soul et de tout ce qui fait vibrer le corps et l’âme.Installez-vous\, laissez-vous porter… \n\n\n\nEn 1ère partie MATECE\, un duo qu’on adore !!!\, style acoustique Pop-soul & Folk Eclectique ! \n\n\n\nVenez nombreux\, ça va être la folie !!!  \n\n\n\n\nInstagram SLAP\n\n\n\nÉvénement Facebook\n\n\n\nFacebook SLAP\n\n\n\n\n\n\n\n\n\n\n\n\n\n\n\n\nInfos pratiquesOuverture des portes à 20h\, spectacle à 20h30.L’adhésion à l’association est obligatoire pour assister au spectacle (valable pour la saison de septembre à juillet\, à prix libre dès 3€).L’entrée est à prix libre au chapeau pour les artistes !Attention : la Boulangerie du Prado n’accepte que les espèces.
URL:https://boulangerieduprado.com/evenement/slap-matece/
CATEGORIES:Concert,Programmation
ATTACH;FMTTYPE=image/jpeg:https://boulangerieduprado.com/wp-content/uploads/2026/02/SLAP-MATECE-BOULANG.jpg
END:VEVENT
BEGIN:VEVENT
DTSTART;TZID=UTC:20260319T200000
DTEND;TZID=UTC:20260319T223000
DTSTAMP:20260420T085053
CREATED:20260214T100719Z
LAST-MODIFIED:20260214T103202Z
UID:2574-1773950400-1773959400@boulangerieduprado.com
SUMMARY:ZE RING
DESCRIPTION:Théâtre d’improvisation\n\n\n\n\n\n\n\n\n\n\n\n\n\n\n\n\n\nIls devront rivaliser d’ingéniosité et de créativité pour gagner ce duel !Uppercut\, dégagement\, blocage\, tous les coups seront permis pour provoquer des situations absurdes qui risquent bien de vous faire rire ! \n\n\n\n\n\n\n\n\n\n\n\n\n\n\n\n\n\n\n\n\n\n\n\n\n\nInfos pratiquesOuverture des portes à 20h\, spectacle à 20h30.L’adhésion à l’association est obligatoire pour assister au spectacle (valable pour la saison de septembre à juillet\, à prix libre dès 3€).L’entrée est à prix libre au chapeau pour les artistes !Attention : la Boulangerie du Prado n’accepte que les espèces.
URL:https://boulangerieduprado.com/evenement/ze-ring-2/
CATEGORIES:Programmation,Théâtre
ATTACH;FMTTYPE=image/jpeg:https://boulangerieduprado.com/wp-content/uploads/2026/02/affiche-ze-ring-19MARS-scaled.jpg
END:VEVENT
BEGIN:VEVENT
DTSTART;TZID=UTC:20260320T200000
DTEND;TZID=UTC:20260320T223000
DTSTAMP:20260420T085053
CREATED:20260214T112546Z
LAST-MODIFIED:20260214T112549Z
UID:2597-1774036800-1774045800@boulangerieduprado.com
SUMMARY:Les Fugitifs
DESCRIPTION:Théatre d’improvisation\n\n\n\n\n\n\n\n\n\n\n\n\n\n\n\n\n\nLes Fugitifs occupent régulièrement les planches de la Boulangerie du Prado pour un spectacle improvisé et inédit. \n\n\n\nPas après pas\, instant après instant\, un lieu prend vie et les projecteurs s’allument sur un décor imaginaire. Un spectacle aussi varié qu’il existe de lieux dans le monde. Un bœuf d’improvisation laissant libre court aux folies de nos comédiens ! \n\n\n\n\n\n\n\n\n\n\n\n\n\n\n\n\n\n\n\n\n\nInfos pratiquesOuverture des portes à 20h\, spectacle à 20h30.L’adhésion à l’association est obligatoire pour assister au spectacle (valable pour la saison de septembre à juillet\, à prix libre dès 3€).L’entrée est à prix libre au chapeau pour les artistes !Attention : la Boulangerie du Prado n’accepte que les espèces.
URL:https://boulangerieduprado.com/evenement/les-fugitifs-18/
CATEGORIES:Programmation,Théâtre
ATTACH;FMTTYPE=image/jpeg:https://boulangerieduprado.com/wp-content/uploads/2023/07/les-fugitifs.jpg
END:VEVENT
BEGIN:VEVENT
DTSTART;TZID=UTC:20260321T200000
DTEND;TZID=UTC:20260321T223000
DTSTAMP:20260420T085053
CREATED:20260303T192310Z
LAST-MODIFIED:20260310T115531Z
UID:2633-1774123200-1774132200@boulangerieduprado.com
SUMMARY:Crash Test Butô
DESCRIPTION:Danse Butô\n\n\n\n\n\n\n\n\n\n\n\n\n\n\n\n\n\n3 fleurs sans nomPour un bouquet fanéUn rire sous l’orageUn bégaiement magique en terrain hostile \n\n\n\nPerformance de Danse Butô avec le trio Féminin : \n\n\n\nIsocel  \n\n\n\nStéphane Guillaumon  \n\n\n\nMélanie Duret \n\n\n\nCrash Test : essais de chocs et collisions en laboratoire \n\n\n\n\nEvénement Facebook\n\n\n\nMélanie Insta\n\n\n\nStéphane Insta\n\n\n\nStéphane Facebook\n\n\n\nMélanie Facebook\n\n\n\nIsocel Facebook\n\n\n\n\n\n\n\n\n\n\n\n\n\n\n\n\n\n\n\n\n\n\nInfos pratiquesOuverture des portes à 20h\, spectacle à 20h30.L’adhésion à l’association est obligatoire pour assister au spectacle (valable pour la saison de septembre à juillet\, à prix libre dès 3€).L’entrée est à prix libre au chapeau pour les artistes !Attention : la Boulangerie du Prado n’accepte que les espèces.
URL:https://boulangerieduprado.com/evenement/crash-test-buto/
CATEGORIES:Autre,Programmation
ATTACH;FMTTYPE=image/jpeg:https://boulangerieduprado.com/wp-content/uploads/2026/03/afficheCrachTest-2.jpeg
END:VEVENT
BEGIN:VEVENT
DTSTART;TZID=UTC:20260326T190000
DTEND;TZID=UTC:20260326T223000
DTSTAMP:20260420T085053
CREATED:20260214T112201Z
LAST-MODIFIED:20260214T112204Z
UID:2595-1774551600-1774564200@boulangerieduprado.com
SUMMARY:Scène ouverte et bal folk
DESCRIPTION:Musiques et danses folk\n\n\n\n\n\n\n\n\n\n\n\n\n\n\n\n\n\nComme chaque dernier jeudi du mois (sauf exception)\, venez danser\, guincher\, vous divertir\, passer un bon moment\, au son des vielles et des accordéons. \n\n\n\n19h – 20h20 : bœuf ouvert à tous les musiciens\, toutes les musiciennes.  \n\n\n\n20h30 – 22h30 : Scène ouverte\, sur inscription de la part des musicien/nes la semaine précédent l’événement. \n\n\n\n\nInscription musiciens\n\n\n\n\n\n\nInfos pratiquesL’adhésion à l’association est obligatoire pour participer (valable pour la saison de septembre à juillet\, à prix libre dès 3€).Attention : la Boulangerie du Prado n’accepte que les espèces.
URL:https://boulangerieduprado.com/evenement/scene-ouverte-et-bal-folk-11/
CATEGORIES:Autre,Programmation
ATTACH;FMTTYPE=image/jpeg:https://boulangerieduprado.com/wp-content/uploads/2025/09/Blind_accordion_player-1024x1024-1.jpg
END:VEVENT
BEGIN:VEVENT
DTSTART;TZID=UTC:20260327T200000
DTEND;TZID=UTC:20260327T223000
DTSTAMP:20260420T085053
CREATED:20260214T110034Z
LAST-MODIFIED:20260214T110230Z
UID:2589-1774641600-1774650600@boulangerieduprado.com
SUMMARY:Dimitri Kikel
DESCRIPTION:Chanson blues folk alternative \n\n\n\n\n\n\n\n\n\n\n\n\n\n\n\n\n\n\n\n\n\n\n\n\n\nDimitri Kikel  \n\n\n\nChanson blues folk alternative  \n\n\n\nLa traversée de Paris avec une douzaine de poissons rouges à livrer en Andalousie. \n\n\n\n\nBandcamp\n\n\n\n\n\n\n\n\n\n\n\n\n\n\n\n\n\n\n\n\n\n\nInfos pratiquesOuverture des portes à 20h\, spectacle à 20h30.L’adhésion à l’association est obligatoire pour assister au spectacle (valable pour la saison de septembre à juillet\, à prix libre dès 3€).L’entrée est à prix libre au chapeau pour les artistes !Attention : la Boulangerie du Prado n’accepte que les espèces.
URL:https://boulangerieduprado.com/evenement/dimitri-kikel/
CATEGORIES:Concert,Programmation
ATTACH;FMTTYPE=image/jpeg:https://boulangerieduprado.com/wp-content/uploads/2026/02/1000019433.jpg
END:VEVENT
BEGIN:VEVENT
DTSTART;TZID=UTC:20260328T200000
DTEND;TZID=UTC:20260328T223000
DTSTAMP:20260420T085053
CREATED:20260214T114344Z
LAST-MODIFIED:20260214T114346Z
UID:2600-1774728000-1774737000@boulangerieduprado.com
SUMMARY:CRAN + DODGE THIS!
DESCRIPTION:Cold Punk / Punk Hardcore\n\n\n\n\n\n\n\n\n\n\n\n\n\n\n\n\n\nYouth Authority présente\, à la Boulangerie du Prado (Lyon 7)Samedi 28 Mars 2026 en soirée à prix libre ! \n\n\n\n \n\n\n\nCRAN (Paris cold punk)\n\n\n\n2 EP\, morceau inédit sur la compilation ‘Paris on Oi’ et bien sûr un Album ‘NATE’ imposant CRAN comme l’un des meilleurs groupe de sa génération ! Après de nombreux concerts en Europe et aux USA\, Cran nous font l’honneur de venir pour la première fois à Lyon ! \n\n\n\n\nBandcamp\n\n\n\nÉvènement Facebook\n\n\n\n\n\n\n\n\nDODGE THIS! Release Party (Lyon Hardcore)\n\n\n\nRelease Party de nos héros locaux\, le dernier opus en date ‘Weight Of Doubts’ tape fort dans la continuité des précédentes sorties du groupe\, aux sonorités plus riches mais pas pour autant plus douces ! \n\n\n\n\nBandcamp\n\n\n\n\n\n\n\n\n\n\n\n\n\n\n\n\n\n\nInfos pratiquesOuverture des portes à 20h\, spectacle à 20h30.L’adhésion à l’association est obligatoire pour assister au spectacle (valable pour la saison de septembre à juillet\, à prix libre dès 3€).L’entrée est à prix libre au chapeau pour les artistes !Attention : la Boulangerie du Prado n’accepte que les espèces.
URL:https://boulangerieduprado.com/evenement/cran-dodge-this/
CATEGORIES:Concert,Programmation
ATTACH;FMTTYPE=image/jpeg:https://boulangerieduprado.com/wp-content/uploads/2026/02/619676965_1517734599821071_8965703927562092209_n.jpg
END:VEVENT
END:VCALENDAR